BEGIN:VCALENDAR
VERSION:2.0
PRODID:-//SP Weinfelden - ECPv6.15.6//NONSGML v1.0//EN
CALSCALE:GREGORIAN
METHOD:PUBLISH
X-WR-CALNAME:SP Weinfelden
X-ORIGINAL-URL:https://spweinfelden.ch
X-WR-CALDESC:Veranstaltungen im SP Weinfelden
REFRESH-INTERVAL;VALUE=DURATION:PT1H
X-Robots-Tag:noindex
X-PUBLISHED-TTL:PT1H
BEGIN:VTIMEZONE
TZID:Europe/Zurich
BEGIN:DAYLIGHT
TZOFFSETFROM:+0100
TZOFFSETTO:+0200
TZNAME:CEST
DTSTART:20250330T010000
END:DAYLIGHT
BEGIN:STANDARD
TZOFFSETFROM:+0200
TZOFFSETTO:+0100
TZNAME:CET
DTSTART:20251026T010000
END:STANDARD
BEGIN:DAYLIGHT
TZOFFSETFROM:+0100
TZOFFSETTO:+0200
TZNAME:CEST
DTSTART:20260329T010000
END:DAYLIGHT
BEGIN:STANDARD
TZOFFSETFROM:+0200
TZOFFSETTO:+0100
TZNAME:CET
DTSTART:20261025T010000
END:STANDARD
BEGIN:DAYLIGHT
TZOFFSETFROM:+0100
TZOFFSETTO:+0200
TZNAME:CEST
DTSTART:20270328T010000
END:DAYLIGHT
BEGIN:STANDARD
TZOFFSETFROM:+0200
TZOFFSETTO:+0100
TZNAME:CET
DTSTART:20271031T010000
END:STANDARD
END:VTIMEZONE
BEGIN:VEVENT
DTSTART;TZID=Europe/Zurich:20260320T190000
DTEND;TZID=Europe/Zurich:20260320T230000
DTSTAMP:20260423T102636
CREATED:20260220T061945Z
LAST-MODIFIED:20260220T062242Z
UID:89227-1774033200-1774047600@spweinfelden.ch
SUMMARY:Jahresversammlung SP Sektion Weinfelden
DESCRIPTION:Vor der Jahresversammlung geben Barbara Holzer und Sonja Lerch einen Einblick in ihre Arbeit bei «Weg ohne Angst»\, Selbstverteidungskurse für Mädchen und Frauen.
URL:https://spweinfelden.ch/veranstaltung/jahresversammlung-3/
LOCATION:Restaurant Löwen\, Rathausstrasse 8\, Weinfelden\, Switzerland
END:VEVENT
END:VCALENDAR